BEGIN:VCALENDAR
VERSION:2.0
PRODID:icalendar-ruby
CALSCALE:GREGORIAN
METHOD:PUBLISH
BEGIN:VEVENT
DTSTAMP:20260422T061716Z
UID:14-489735@ssaz.org
DTSTART:20260830T173000Z
DTEND:20260830T190000Z
CLASS:PUBLIC
CREATED:20260421T175719
DESCRIPTION:Join us Every Sunday morning at 10:30 a.m. for an inspiring tim
 e of Worship and the the Word!
LAST-MODIFIED:20260421T175719
LOCATION:
SUMMARY:Sunday
URL;VALUE=URI:https://ssaz.org/events/sunday/2026-08-30
END:VEVENT
END:VCALENDAR
