BEGIN:VCALENDAR
VERSION:2.0
PRODID:icalendar-ruby
CALSCALE:GREGORIAN
METHOD:PUBLISH
BEGIN:VEVENT
DTSTAMP:20260422T003650Z
UID:14-489313@ssaz.org
DTSTART:20260809T173000Z
DTEND:20260809T190000Z
CLASS:PUBLIC
CREATED:20260421T151837
DESCRIPTION:Join us Every Sunday morning at 10:30 a.m. for an inspiring tim
 e of Worship and the the Word!
LAST-MODIFIED:20260421T151837
LOCATION:
SUMMARY:Sunday
URL;VALUE=URI:https://ssaz.org/events/sunday/2026-08-09
END:VEVENT
END:VCALENDAR
